BEGIN:VCALENDAR
VERSION:2.0
PRODID:-//Flause - ECPv6.0.10//NONSGML v1.0//EN
CALSCALE:GREGORIAN
METHOD:PUBLISH
X-WR-CALNAME:Flause
X-ORIGINAL-URL:https://flause-goe.de
X-WR-CALDESC:Veranstaltungen für Flause
REFRESH-INTERVAL;VALUE=DURATION:PT1H
X-Robots-Tag:noindex
X-PUBLISHED-TTL:PT1H
BEGIN:VTIMEZONE
TZID:UTC
BEGIN:STANDARD
TZOFFSETFROM:+0000
TZOFFSETTO:+0000
TZNAME:UTC
DTSTART:20250101T000000
END:STANDARD
END:VTIMEZONE
BEGIN:VEVENT
DTSTART;TZID=UTC:20250306T200000
DTEND;TZID=UTC:20250306T200000
DTSTAMP:20260422T225923
CREATED:20250108T143257Z
LAST-MODIFIED:20250108T143257Z
UID:2836-1741291200-1741291200@flause-goe.de
SUMMARY:Pub Quiz
DESCRIPTION:Das Flause-Pub Quiz geht in die zweite Runde!
URL:https://flause-goe.de/event/pub-quiz/
LOCATION:Leinehafen
END:VEVENT
END:VCALENDAR