BEGIN:VCALENDAR
VERSION:2.0
PRODID:-//Flause - ECPv6.0.10//NONSGML v1.0//EN
CALSCALE:GREGORIAN
METHOD:PUBLISH
X-WR-CALNAME:Flause
X-ORIGINAL-URL:https://flause-goe.de
X-WR-CALDESC:Veranstaltungen für Flause
REFRESH-INTERVAL;VALUE=DURATION:PT1H
X-Robots-Tag:noindex
X-PUBLISHED-TTL:PT1H
BEGIN:VTIMEZONE
TZID:UTC
BEGIN:STANDARD
TZOFFSETFROM:+0000
TZOFFSETTO:+0000
TZNAME:UTC
DTSTART:20250101T000000
END:STANDARD
END:VTIMEZONE
BEGIN:VEVENT
DTSTART;TZID=UTC:20250116T180000
DTEND;TZID=UTC:20250116T220000
DTSTAMP:20260423T020739
CREATED:20250108T142651Z
LAST-MODIFIED:20250108T142651Z
UID:2822-1737050400-1737064800@flause-goe.de
SUMMARY:Plattenbau
DESCRIPTION:Die Vinyl Wednesday Crew bringt ihre schönsten Schalplatten mit und beglückt euch mit nicer Tanzmusik.
URL:https://flause-goe.de/event/plattenbau/
LOCATION:Leinehafen
END:VEVENT
BEGIN:VEVENT
DTSTART;TZID=UTC:20250123T180000
DTEND;TZID=UTC:20250123T220000
DTSTAMP:20260423T020739
CREATED:20250108T142743Z
LAST-MODIFIED:20250108T142743Z
UID:2824-1737655200-1737669600@flause-goe.de
SUMMARY:Jam Session
DESCRIPTION:Packt eure Instrumente ein und jammt mit uns oder kommt einfach nur zum Zuhören vorbei.
URL:https://flause-goe.de/event/jam-session/
LOCATION:Leinehafen
END:VEVENT
BEGIN:VEVENT
DTSTART;TZID=UTC:20250130T200000
DTEND;TZID=UTC:20250130T220000
DTSTAMP:20260423T020739
CREATED:20250108T142822Z
LAST-MODIFIED:20250108T142822Z
UID:2826-1738267200-1738274400@flause-goe.de
SUMMARY:Kinoabend
DESCRIPTION:Wir schmeißen die Popcorn Maschine an und laden ein zum gemütlichen Kinoabend. Geschaut wird der Spielfilm Suffragette.
URL:https://flause-goe.de/event/kinoabend-2/
LOCATION:Leinehafen
END:VEVENT
END:VCALENDAR