BEGIN:VCALENDAR
VERSION:2.0
PRODID:-//Flause - ECPv6.0.10//NONSGML v1.0//EN
CALSCALE:GREGORIAN
METHOD:PUBLISH
X-ORIGINAL-URL:https://flause-goe.de
X-WR-CALDESC:Veranstaltungen für Flause
REFRESH-INTERVAL;VALUE=DURATION:PT1H
X-Robots-Tag:noindex
X-PUBLISHED-TTL:PT1H
BEGIN:VTIMEZONE
TZID:UTC
BEGIN:STANDARD
TZOFFSETFROM:+0000
TZOFFSETTO:+0000
TZNAME:UTC
DTSTART:20240101T000000
END:STANDARD
END:VTIMEZONE
BEGIN:VEVENT
DTSTART;TZID=UTC:20241205T180000
DTEND;TZID=UTC:20241205T220000
DTSTAMP:20260423T035513
CREATED:20250108T142355Z
LAST-MODIFIED:20250108T142355Z
UID:2820-1733421600-1733436000@flause-goe.de
SUMMARY:Vinyl Thursday
DESCRIPTION:
URL:https://flause-goe.de/event/vinyl-thursday-2/
LOCATION:Leinehafen
END:VEVENT
BEGIN:VEVENT
DTSTART;TZID=UTC:20241207T140000
DTEND;TZID=UTC:20241207T220000
DTSTAMP:20260423T035513
CREATED:20241127T103151Z
LAST-MODIFIED:20241127T103219Z
UID:2808-1733580000-1733608800@flause-goe.de
SUMMARY:Wintermarkt
DESCRIPTION:***English below***\nDie Flause lädt ein zum Wintermarkt! Am 07.12. erwarten euch jede Menge schöne Dinge: Stände mit Kunst\, Kunsthandwerk und Krims-Krams\, Live-Musik\, eine Bastelecke\, eine Feuertonne und natürlich Punsch und Glühwein ❄ \n***English***\nFlause invites you to our winter market! On 7 December\, you can expect lots of lovely things: stands with art\, handicrafts and bric-a-brac\, live music\, a craft corner\, a fire barrel and\, of course\, punch and mulled wine ❄
URL:https://flause-goe.de/event/wintermarkt/
END:VEVENT
END:VCALENDAR