BEGIN:VCALENDAR
VERSION:2.0
PRODID:-//Flause - ECPv6.0.10//NONSGML v1.0//EN
CALSCALE:GREGORIAN
METHOD:PUBLISH
X-ORIGINAL-URL:https://flause-goe.de
X-WR-CALDESC:Veranstaltungen für Flause
REFRESH-INTERVAL;VALUE=DURATION:PT1H
X-Robots-Tag:noindex
X-PUBLISHED-TTL:PT1H
BEGIN:VTIMEZONE
TZID:UTC
BEGIN:STANDARD
TZOFFSETFROM:+0000
TZOFFSETTO:+0000
TZNAME:UTC
DTSTART:20240101T000000
END:STANDARD
END:VTIMEZONE
BEGIN:VEVENT
DTSTART;TZID=UTC:20241025T200000
DTEND;TZID=UTC:20241025T230000
DTSTAMP:20260423T072334
CREATED:20241022T134301Z
LAST-MODIFIED:20241022T134555Z
UID:2786-1729886400-1729897200@flause-goe.de
SUMMARY:Ende Gelände Thekenabend
DESCRIPTION:
URL:https://flause-goe.de/event/ende-gelaende-thekenabend/
LOCATION:Leinehafen
END:VEVENT
BEGIN:VEVENT
DTSTART;TZID=UTC:20241031T170000
DTEND;TZID=UTC:20241031T210000
DTSTAMP:20260423T072334
CREATED:20241022T134418Z
LAST-MODIFIED:20241022T134530Z
UID:2788-1730394000-1730408400@flause-goe.de
SUMMARY:Revolutionäre Flammen: FLINTA* im Licht der  Reformation
DESCRIPTION:Veranstaltung vom Netzwerk gegen Femizide
URL:https://flause-goe.de/event/revolutionaere-flammen-flinta-im-licht-der-reformation/
END:VEVENT
END:VCALENDAR