BEGIN:VCALENDAR
VERSION:2.0
PRODID:-//Flause - ECPv6.0.10//NONSGML v1.0//EN
CALSCALE:GREGORIAN
METHOD:PUBLISH
X-WR-CALNAME:Flause
X-ORIGINAL-URL:https://flause-goe.de
X-WR-CALDESC:Veranstaltungen für Flause
REFRESH-INTERVAL;VALUE=DURATION:PT1H
X-Robots-Tag:noindex
X-PUBLISHED-TTL:PT1H
BEGIN:VTIMEZONE
TZID:UTC
BEGIN:STANDARD
TZOFFSETFROM:+0000
TZOFFSETTO:+0000
TZNAME:UTC
DTSTART:20250101T000000
END:STANDARD
END:VTIMEZONE
BEGIN:VEVENT
DTSTART;TZID=UTC:20250227T180000
DTEND;TZID=UTC:20250227T220000
DTSTAMP:20260423T003909
CREATED:20250108T143135Z
LAST-MODIFIED:20250108T143135Z
UID:2834-1740679200-1740693600@flause-goe.de
SUMMARY:Jam Session
DESCRIPTION:Packt eure Instrumente ein und jammt mit uns oder kommt einfach nur zum Zuhören vorbei.
URL:https://flause-goe.de/event/jam-session-2/
LOCATION:Leinehafen
END:VEVENT
END:VCALENDAR