BEGIN:VCALENDAR
VERSION:2.0
PRODID:-//Flause - ECPv6.0.10//NONSGML v1.0//EN
CALSCALE:GREGORIAN
METHOD:PUBLISH
X-ORIGINAL-URL:https://flause-goe.de
X-WR-CALDESC:Veranstaltungen für Flause
REFRESH-INTERVAL;VALUE=DURATION:PT1H
X-Robots-Tag:noindex
X-PUBLISHED-TTL:PT1H
BEGIN:VTIMEZONE
TZID:UTC
BEGIN:STANDARD
TZOFFSETFROM:+0000
TZOFFSETTO:+0000
TZNAME:UTC
DTSTART:20250101T000000
END:STANDARD
END:VTIMEZONE
BEGIN:VEVENT
DTSTART;TZID=UTC:20250220T200000
DTEND;TZID=UTC:20250220T220000
DTSTAMP:20260423T020852
CREATED:20250108T143042Z
LAST-MODIFIED:20250108T143042Z
UID:2832-1740081600-1740088800@flause-goe.de
SUMMARY:Punschkonzert
DESCRIPTION:Wir haben @carldieband eingeladen und freuen uns auf ein gemütliches Konzert. Dazu gibt’s leckeren Punsch\, mit und ohne Schuss.
URL:https://flause-goe.de/event/punschkonzert/
LOCATION:Leinehafen
END:VEVENT
END:VCALENDAR